BEGIN:VCALENDAR
VERSION:2.0
PRODID:icalendar-ruby
CALSCALE:GREGORIAN
BEGIN:VEVENT
DTSTAMP:20260424T103030Z
UID:03f8005f-d2b8-4a02-b85e-639c191f6232
DTSTART;VALUE=DATE:20260401
DESCRIPTION:Property ID# 605130\, Locatoin: Clark & Co Realty\, 7 Mana Espl
 anade Paremata.\, Time: 12:00PM
SUMMARY:Auction for 
END:VEVENT
END:VCALENDAR
