BEGIN:VCALENDAR
VERSION:2.0
PRODID:icalendar-ruby
CALSCALE:GREGORIAN
BEGIN:VEVENT
DTSTAMP:20260424T090900Z
UID:c9ca680c-b5cb-49bc-b5b1-8b014a8cbe22
DTSTART;VALUE=DATE:20260325
DESCRIPTION:Property ID# 604710\, Locatoin: Clark & Co Realty\, 7 Mana Espl
 anade Paremata.\, Time: 1:00AM
SUMMARY:Auction for 4/63 Main Road
END:VEVENT
END:VCALENDAR
